BEGIN:VCALENDAR
VERSION:2.0
PRODID:-//Legacy of the Lakes Museum - ECPv4.4.5//NONSGML v1.0//EN
CALSCALE:GREGORIAN
METHOD:PUBLISH
X-WR-CALNAME:Legacy of the Lakes Museum
X-ORIGINAL-URL:https://legacyofthelakes.org
X-WR-CALDESC:Events for Legacy of the Lakes Museum
BEGIN:VEVENT
DTSTART;TZID=UTC+0:20250722T100000
DTEND;TZID=UTC+0:20250722T113000
DTSTAMP:20260423T153412
CREATED:20250423T163405Z
LAST-MODIFIED:20250423T163405Z
UID:3295-1753178400-1753183800@legacyofthelakes.org
SUMMARY:Painting in the Gardens: Session 1
DESCRIPTION:Let your creativity come to life in the beautiful Legacy Gardens at the Legacy of the Lakes Museum. You can take inspiration from the beautiful plantings\, trees\, and water and create your very own masterpiece. Grades 1-6.\n\nRegistration is required. Click here to register.
URL:https://legacyofthelakes.org/event/painting-gardens-session-1/
LOCATION:205 3rd Ave W\, Alexandria\, MN\, 56308\, United States
CATEGORIES:All Events
ATTACH;FMTTYPE=image/jpeg:https://legacyofthelakes.org/wp-content/uploads/2025/04/Painting-in-the-Gardens.jpg
ORGANIZER;CN="Legacy%20of%20the%20Lakes%20Museum":MAILTO:museum@legacyofthelakes.org
END:VEVENT
END:VCALENDAR