BEGIN:VCALENDAR
VERSION:2.0
PRODID:-//Legacy of the Lakes Museum - ECPv4.4.5//NONSGML v1.0//EN
CALSCALE:GREGORIAN
METHOD:PUBLISH
X-WR-CALNAME:Legacy of the Lakes Museum
X-ORIGINAL-URL:https://legacyofthelakes.org
X-WR-CALDESC:Events for Legacy of the Lakes Museum
BEGIN:VEVENT
DTSTART;TZID=UTC+0:20250626T080000
DTEND;TZID=UTC+0:20250626T170000
DTSTAMP:20260425T120241
CREATED:20250324T155508Z
LAST-MODIFIED:20250612T123033Z
UID:3275-1750924800-1750957200@legacyofthelakes.org
SUMMARY:Music in the Gardens Season Pass Extravaganza
DESCRIPTION:Interested in seeing all four* of our amazing Music in the Gardens concerts for one awesome discounted price? Check out our Season Passes!\n\nGrasslands Season Pass $50 (Museum members pay just $35)Gar Wood Premium Season Pass $80 (Museum members pay just $65)\n\nIncluded Concerts:June 27-Pat Donohue and the Prairie All-StarsJuly 25-Church of Cash\nAugust 1-Davina and the VagabondsAugust 8-Parrothead Paradise\n\nPurchase your season pass in person at the museum when we open for the season on May 16 or online by clicking here.\n\n*Please note the the Kids in the Garden concert featuring the Bazillions is not included in the Season Pass.
URL:https://legacyofthelakes.org/event/migseasonpass/
CATEGORIES:All Events
ATTACH;FMTTYPE=image/png:https://legacyofthelakes.org/wp-content/uploads/2025/03/MIG-Teaser.png
END:VEVENT
END:VCALENDAR