BEGIN:VCALENDAR
VERSION:2.0
PRODID:-//Legacy of the Lakes Museum - ECPv4.4.5//NONSGML v1.0//EN
CALSCALE:GREGORIAN
METHOD:PUBLISH
X-WR-CALNAME:Legacy of the Lakes Museum
X-ORIGINAL-URL:https://legacyofthelakes.org
X-WR-CALDESC:Events for Legacy of the Lakes Museum
BEGIN:VEVENT
DTSTART;TZID=UTC+0:20230401T100000
DTEND;TZID=UTC+0:20230401T120000
DTSTAMP:20260425T035911
CREATED:20230301T184526Z
LAST-MODIFIED:20230301T184526Z
UID:2430-1680343200-1680350400@legacyofthelakes.org
SUMMARY:Flotation Science Workshop
DESCRIPTION:Join us for a free Flotation Science Workshop on Saturday\, April 1 from 10 am to 12 pm. These activities are perfect for grades 3-5.\n\nWhile the event is free\, registration is required. You can sign up at mn.4honline.com.
URL:https://legacyofthelakes.org/event/flotation-science-workshop/
LOCATION:205 3rd Ave W\, Alexandria\, MN\, 56308\, United States
CATEGORIES:All Events
ATTACH;FMTTYPE=image/png:https://legacyofthelakes.org/wp-content/uploads/2023/03/FLOTATION-SCIENCE.png
END:VEVENT
END:VCALENDAR