BEGIN:VCALENDAR
VERSION:2.0
PRODID:-//Legacy of the Lakes Museum - ECPv4.4.5//NONSGML v1.0//EN
CALSCALE:GREGORIAN
METHOD:PUBLISH
X-WR-CALNAME:Legacy of the Lakes Museum
X-ORIGINAL-URL:https://legacyofthelakes.org
X-WR-CALDESC:Events for Legacy of the Lakes Museum
BEGIN:VEVENT
DTSTART;TZID=UTC+0:20240516T170000
DTEND;TZID=UTC+0:20240516T190000
DTSTAMP:20260424T141302
CREATED:20240409T162253Z
LAST-MODIFIED:20240409T162253Z
UID:2905-1715878800-1715886000@legacyofthelakes.org
SUMMARY:School Night
DESCRIPTION:Educators\, school staff\, and their families are invited for a special preview night at the museum. Check out our new exhibits and see what resources we can offer your school\, including our new Teaching Trunks!\n\nThis is a free event\, just show your school Badge or ID at the admission desk to gain entry. Light refreshments will be served.
URL:https://legacyofthelakes.org/event/school-night/
LOCATION:205 3rd Ave W\, Alexandria\, MN\, 56308\, United States
CATEGORIES:All Events
ATTACH;FMTTYPE=image/png:https://legacyofthelakes.org/wp-content/uploads/2024/04/School-Night.png
ORGANIZER;CN="Legacy%20of%20the%20Lakes%20Museum":MAILTO:museum@legacyofthelakes.org
END:VEVENT
END:VCALENDAR