BEGIN:VCALENDAR
VERSION:2.0
PRODID:-//Legacy of the Lakes Museum - ECPv4.4.5//NONSGML v1.0//EN
CALSCALE:GREGORIAN
METHOD:PUBLISH
X-WR-CALNAME:Legacy of the Lakes Museum
X-ORIGINAL-URL:https://legacyofthelakes.org
X-WR-CALDESC:Events for Legacy of the Lakes Museum
BEGIN:VEVENT
DTSTART;TZID=UTC+0:20241129T140000
DTEND;TZID=UTC+0:20241129T180000
DTSTAMP:20260422T015352
CREATED:20240917T172451Z
LAST-MODIFIED:20241008T140052Z
UID:3071-1732888800-1732903200@legacyofthelakes.org
SUMMARY:Parade of Trees
DESCRIPTION:It's the 9th annual Parade of Trees\, part of Christmas in the Fort celebrations!\n\nJoin us Friday\, November 29\, 2024 from 2-6 pm to kick off the holiday season. The Legacy of the Lakes BoatHouse will be filled with holiday trees decorated by area clubs\, organizations\, and businesses. There will also be a Hot Cocoa Bar\, S'mores over the fire\, Christmas choirs\, the Garden of Lights\, and more! The best part? This event is 100% free!\n\nDon't forget to head next door to the Runestone Museum for Christmas in the Fort for a visit with Santa and Mrs. Claus.\n\nFor a complete list of activities occurring on November 29\, visit https://explorealex.com/christmas-in-alex/.\n\nWant your club\, business\, or organization to decorate a tree? It's free! Sign up here.
URL:https://legacyofthelakes.org/event/parade-of-trees-9/
LOCATION:205 3rd Ave W\, Alexandria\, MN\, 56308\, United States
CATEGORIES:All Events
ATTACH;FMTTYPE=image/png:https://legacyofthelakes.org/wp-content/uploads/2024/09/Parade-of-Trees.png
ORGANIZER;CN="Legacy%20of%20the%20Lakes%20Museum":MAILTO:museum@legacyofthelakes.org
END:VEVENT
END:VCALENDAR