BEGIN:VCALENDAR
VERSION:2.0
PRODID:-//Legacy of the Lakes Museum - ECPv4.4.5//NONSGML v1.0//EN
CALSCALE:GREGORIAN
METHOD:PUBLISH
X-WR-CALNAME:Legacy of the Lakes Museum
X-ORIGINAL-URL:https://legacyofthelakes.org
X-WR-CALDESC:Events for Legacy of the Lakes Museum
BEGIN:VEVENT
DTSTART;TZID=UTC+0:20221126T170000
DTEND;TZID=UTC+0:20221126T200000
DTSTAMP:20260423T214136
CREATED:20220930T155357Z
LAST-MODIFIED:20220930T155357Z
UID:2306-1669482000-1669492800@legacyofthelakes.org
SUMMARY:Parade of Trees
DESCRIPTION:New this year\, Parade of Trees will have open hours through the weekend! Come check out the holiday trees decorated by local businesses\, clubs\, and organizations from 5-8 pm!
URL:https://legacyofthelakes.org/event/parade-of-trees-4/
LOCATION:205 3rd Ave W\, Alexandria\, MN\, 56308\, United States
CATEGORIES:All Events
ATTACH;FMTTYPE=image/jpeg:https://legacyofthelakes.org/wp-content/uploads/2022/09/304903670_10159105727839353_5876172096564085592_n.jpg
ORGANIZER;CN="Legacy%20of%20the%20Lakes%20Museum":MAILTO:museum@legacyofthelakes.org
END:VEVENT
END:VCALENDAR