BEGIN:VCALENDAR
VERSION:2.0
PRODID:-//Legacy of the Lakes Museum - ECPv4.4.5//NONSGML v1.0//EN
CALSCALE:GREGORIAN
METHOD:PUBLISH
X-WR-CALNAME:Legacy of the Lakes Museum
X-ORIGINAL-URL:https://legacyofthelakes.org
X-WR-CALDESC:Events for Legacy of the Lakes Museum
BEGIN:VEVENT
DTSTART;TZID=UTC+0:20221125T150000
DTEND;TZID=UTC+0:20221125T180000
DTSTAMP:20260423T200342
CREATED:20220906T163934Z
LAST-MODIFIED:20221024T205340Z
UID:2299-1669388400-1669399200@legacyofthelakes.org
SUMMARY:Parade of Trees
DESCRIPTION:Alexandria's holiday kick-off is almost upon us! Join us in the BoatHouse on Friday\, November 25 for Parade of Trees!\nView trees decorated by local businesses\, clubs\, and organizations and vote for your favorite. We'll have a free hot cocoa bar and s'mores outside over cozy firepits. This event is free and any free will donations received will go to Hospice of Douglas County\, Legacy of the Lakes Museum\, and the Runestone Museum Foundation.\n\nThe festivities continue next door at the Runestone Museum. Follow the lighted path to Fort Alexandria for more holiday fun!\n\nNew this year\, Parade of Trees will be open through the weekend! Bring the family by on Saturday and Sunday from 5-8 pm.\n\nIf your business\, club\, or organization would like to decorate a tree\, use this link to sign up: https://bit.ly/3T7zrbk\n\nThank you to our event sponsors\, Fleet Farm of Alexandria\, Elden's Fresh Foods\, Creations by 'Sota Weddings\, Walmart\, and JS Rental!
URL:https://legacyofthelakes.org/event/parade-of-trees-3/
LOCATION:205 3rd Ave W\, Alexandria\, MN\, 56308\, United States
CATEGORIES:All Events
ATTACH;FMTTYPE=image/png:https://legacyofthelakes.org/wp-content/uploads/2022/09/Parade-of-Trees.png
ORGANIZER;CN="Legacy%20of%20the%20Lakes%20Museum":MAILTO:museum@legacyofthelakes.org
END:VEVENT
END:VCALENDAR