BEGIN:VCALENDAR
VERSION:2.0
PRODID:-//Legacy of the Lakes Museum - ECPv4.4.5//NONSGML v1.0//EN
CALSCALE:GREGORIAN
METHOD:PUBLISH
X-WR-CALNAME:Legacy of the Lakes Museum
X-ORIGINAL-URL:https://legacyofthelakes.org
X-WR-CALDESC:Events for Legacy of the Lakes Museum
BEGIN:VEVENT
DTSTART;TZID=UTC+0:20220805T180000
DTEND;TZID=UTC+0:20220805T210000
DTSTAMP:20260422T002635
CREATED:20220527T155341Z
LAST-MODIFIED:20220701T200732Z
UID:2165-1659722400-1659733200@legacyofthelakes.org
SUMMARY:Music in the Gardens: Davina and the Vagabonds
DESCRIPTION:The Legacy of the Lakes Museum is pleased to welcome back Davina & the Vagabonds to the Legacy Gardens!\n\n“Davina Sowers creates her own Americana mishmash — a little Amy Winehouse-worthy neo-soul here\, a little Great American Songbook-influenced songcraft there.”-Rolling Stone Magazine\n\nGates open at 6:00 pm and the music starts at 6:30. Peppa & Poppy's Kitchen Food Truck will be on site serving up delicious food for purchase and there will be adult beverages for sale inside the event.\n\nGar Wood Tickets are nearest the stage and a chair is provided.\n\nGrasslands Tickets are bring your own chair and first come\, first serve seating.\n\nSeason passes are available for all three Music in the Gardens concerts this season.\n\nKids 12 & under are free!\n\nTickets are available online at https://lolm.betterworld.org/events/music-gardens-davina-vagabonds. Tickets can also be purchased at the gate. Tickets are refundable up until 5:00 pm\, Thursday\, August 4\, 2022.\n\nThank you to Diamond Buick GMC for sponsoring this event!\n\nPhoto: The Kurland Agency
URL:https://legacyofthelakes.org/event/music-gardens-davina-vagabonds/
LOCATION:205 3rd Ave W\, Alexandria\, MN\, 56308\, United States
CATEGORIES:All Events
ATTACH;FMTTYPE=image/jpeg:https://legacyofthelakes.org/wp-content/uploads/2022/05/DATV-FEAT-1024x684.jpg
ORGANIZER;CN="Legacy%20of%20the%20Lakes%20Museum":MAILTO:museum@legacyofthelakes.org
END:VEVENT
END:VCALENDAR